BEGIN:VCALENDAR
CALSCALE:GREGORIAN
VERSION:2.0
PRODID:bfh.ch /iCal4j
BEGIN:VEVENT
DTSTAMP:20260422T151654Z
DTSTART;TZID=Europe/Zurich:20230312T140000
DTEND;TZID=Europe/Zurich:20230312T170000
SUMMARY:HKB-Orchester am Laboratorium Zwingli
UID:57417b52-1fc2-4423-9445-0b9d5e07cc61
DESCRIPTION:HKB-Orchester am Laboratorium Zwingli\nDatum: 12.03.2023\, 14.00–17.00 Uhr\n\n\nÄnderungen vorbehalten. Informieren Sie sich kurz vor der Veranstaltung über mögliche Änderungen.\nWeitere Informationen zur Veranstaltung: https://www.hkb.bfh.ch/de/aktuell/kulturelle-veranstaltungen/konzerte/musik-hkb-orchester-am-laboratorium-zwingli-23-03-12/
X-ALT-DESC;FMTTYPE=text/html:HKB-Orchester am Laboratorium Zwingli<br>Datum: 12.03.2023\, 14.00–17.00 Uhr<br><br><br>Änderungen vorbehalten. Informieren Sie sich kurz vor der Veranstaltung über mögliche Änderungen.<br>Weitere Informationen zur Veranstaltung: <a href=\"https://www.hkb.bfh.ch/de/aktuell/kulturelle-veranstaltungen/konzerte/musik-hkb-orchester-am-laboratorium-zwingli-23-03-12/\">https://www.hkb.bfh.ch/de/aktuell/kulturelle-veranstaltungen/konzerte/musik-hkb-orchester-am-laboratorium-zwingli-23-03-12/</a>
LOCATION:Manufacture TOBS\, Rochette 8\, 2504 Biel-Bözingen
END:VEVENT
BEGIN:VTIMEZONE
TZID:Europe/Zurich
LAST-MODIFIED:20260306T231828Z
TZURL:https://www.tzurl.org/zoneinfo/Europe/Zurich
X-LIC-LOCATION:Europe/Zurich
X-PROLEPTIC-TZNAME:LMT
BEGIN:STANDARD
TZNAME:BMT
TZOFFSETFROM:+003408
TZOFFSETTO:+002946
DTSTART:18530716T000000
END:STANDARD
BEGIN:STANDARD
TZNAME:CET
TZOFFSETFROM:+002946
TZOFFSETTO:+0100
DTSTART:18940601T000000
END:STANDARD
BEGIN:DAYLIGHT
TZNAME:CEST
TZOFFSETFROM:+0100
TZOFFSETTO:+0200
DTSTART:19410505T010000
RRULE:FREQ=YEARLY;UNTIL=19420504T000000Z;BYMONTH=5;BYDAY=1MO
END:DAYLIGHT
BEGIN:STANDARD
TZNAME:CET
TZOFFSETFROM:+0200
TZOFFSETTO:+0100
DTSTART:19411006T020000
RRULE:FREQ=YEARLY;UNTIL=19421005T000000Z;BYMONTH=10;BYDAY=1MO
END:STANDARD
BEGIN:DAYLIGHT
TZNAME:CEST
TZOFFSETFROM:+0100
TZOFFSETTO:+0200
DTSTART:19810329T020000
RRULE:FREQ=YEARLY;BYMONTH=3;BYDAY=-1SU
END:DAYLIGHT
BEGIN:STANDARD
TZNAME:CET
TZOFFSETFROM:+0200
TZOFFSETTO:+0100
DTSTART:19810927T030000
RRULE:FREQ=YEARLY;UNTIL=19950924T010000Z;BYMONTH=9;BYDAY=-1SU
END:STANDARD
BEGIN:STANDARD
TZNAME:CET
TZOFFSETFROM:+0200
TZOFFSETTO:+0100
DTSTART:19961027T030000
RRULE:FREQ=YEARLY;BYMONTH=10;BYDAY=-1SU
END:STANDARD
END:VTIMEZONE
END:VCALENDAR
